Package: scGPS Version: 1.24.0 Command: /Library/Frameworks/R.framework/Resources/bin/R CMD build --keep-empty-dirs --no-resave-data scGPS StartedAt: 2025-11-03 18:38:36 -0500 (Mon, 03 Nov 2025) EndedAt: 2025-11-03 18:45:59 -0500 (Mon, 03 Nov 2025) EllapsedTime: 442.8 seconds RetCode: 0 Status: OK PackageFile: scGPS_1.24.0.tar.gz PackageFileSize: 2.033 MiB