Package: scGPS Version: 1.23.0 Command: /Library/Frameworks/R.framework/Resources/bin/R CMD INSTALL scGPS StartedAt: 2025-10-24 15:17:01 -0400 (Fri, 24 Oct 2025) EndedAt: 2025-10-24 15:17:20 -0400 (Fri, 24 Oct 2025) EllapsedTime: 18.4 seconds RetCode: 0 Status: OK