Package: scFeatures Version: 1.10.0 Command: /home/biocbuild/R/R/bin/R CMD INSTALL scFeatures StartedAt: 2025-11-24 22:11:37 -0000 (Mon, 24 Nov 2025) EndedAt: 2025-11-24 22:13:18 -0000 (Mon, 24 Nov 2025) EllapsedTime: 100.8 seconds RetCode: 0 Status: OK