Package: scFeatures Version: 1.10.0 Command: /home/biocbuild/R/R/bin/R CMD build --keep-empty-dirs --no-resave-data scFeatures StartedAt: 2025-11-25 04:48:51 -0000 (Tue, 25 Nov 2025) EndedAt: 2025-11-25 04:51:39 -0000 (Tue, 25 Nov 2025) EllapsedTime: 168.1 seconds RetCode: 0 Status: OK PackageFile: scFeatures_1.10.0.tar.gz PackageFileSize: 2.914 MiB