Package: scFeatures Version: 1.9.0 Command: /home/biocbuild/bbs-3.22-bioc/R/bin/R CMD check --install=check:scFeatures.install-out.txt --library=/home/biocbuild/bbs-3.22-bioc/R/site-library --timings scFeatures_1.9.0.tar.gz StartedAt: 2025-10-25 03:48:53 -0400 (Sat, 25 Oct 2025) EndedAt: 2025-10-25 03:58:00 -0400 (Sat, 25 Oct 2025) EllapsedTime: 546.4 seconds RetCode: 1 Status: ERROR CheckDir: scFeatures.Rcheck Warnings: NA