Package: scFeatures Version: 1.9.0 Command: /Library/Frameworks/R.framework/Resources/bin/R CMD build --keep-empty-dirs --no-resave-data scFeatures StartedAt: 2025-10-24 18:38:23 -0400 (Fri, 24 Oct 2025) EndedAt: 2025-10-24 18:41:29 -0400 (Fri, 24 Oct 2025) EllapsedTime: 186.3 seconds RetCode: 0 Status: OK PackageFile: scFeatures_1.9.0.tar.gz PackageFileSize: 2.928 MiB