Package: scFeatures Version: 1.9.0 Command: /Library/Frameworks/R.framework/Resources/bin/R CMD INSTALL scFeatures StartedAt: 2025-10-24 15:35:21 -0400 (Fri, 24 Oct 2025) EndedAt: 2025-10-24 15:35:51 -0400 (Fri, 24 Oct 2025) EllapsedTime: 30.3 seconds RetCode: 0 Status: OK