Package: scFeatures Version: 1.9.0 Command: rm -rf scFeatures.buildbin-libdir && mkdir scFeatures.buildbin-libdir && /Users/biocbuild/BBS/utils/build-universal.sh scFeatures_1.9.0.tar.gz /Library/Frameworks/R.framework/Resources/bin/R scFeatures.buildbin-libdir StartedAt: 2025-10-24 23:18:38 -0400 (Fri, 24 Oct 2025) EndedAt: 2025-10-24 23:19:13 -0400 (Fri, 24 Oct 2025) EllapsedTime: 35.7 seconds RetCode: 0 Status: OK PackageFile: scFeatures_1.9.0.tgz PackageFileSize: 3.068 MiB