Package: scDotPlot Version: 1.3.1 Command: /home/biocbuild/R/R/bin/R CMD INSTALL scDotPlot StartedAt: 2025-10-23 21:19:06 -0000 (Thu, 23 Oct 2025) EndedAt: 2025-10-23 21:20:00 -0000 (Thu, 23 Oct 2025) EllapsedTime: 54.3 seconds RetCode: 0 Status: OK