Package: scDotPlot Version: 1.3.1 Command: /home/biocbuild/R/R/bin/R CMD build --keep-empty-dirs --no-resave-data scDotPlot StartedAt: 2025-10-21 02:53:41 -0000 (Tue, 21 Oct 2025) EndedAt: 2025-10-21 02:55:46 -0000 (Tue, 21 Oct 2025) EllapsedTime: 125.1 seconds RetCode: 0 Status: OK PackageFile: scDotPlot_1.3.1.tar.gz PackageFileSize: 936.3 KiB