Package: scDotPlot Version: 1.3.1 Command: /Library/Frameworks/R.framework/Resources/bin/R CMD INSTALL scDotPlot StartedAt: 2025-10-24 15:53:07 -0400 (Fri, 24 Oct 2025) EndedAt: 2025-10-24 15:54:04 -0400 (Fri, 24 Oct 2025) EllapsedTime: 57.0 seconds RetCode: 0 Status: OK