Package: scDotPlot Version: 1.3.1 Command: rm -rf scDotPlot.buildbin-libdir && mkdir scDotPlot.buildbin-libdir && /Users/biocbuild/BBS/utils/build-universal.sh scDotPlot_1.3.1.tar.gz /Library/Frameworks/R.framework/Resources/bin/R scDotPlot.buildbin-libdir StartedAt: 2025-10-24 23:18:34 -0400 (Fri, 24 Oct 2025) EndedAt: 2025-10-24 23:18:52 -0400 (Fri, 24 Oct 2025) EllapsedTime: 18.4 seconds RetCode: 0 Status: OK PackageFile: scDotPlot_1.3.1.tgz PackageFileSize: 2.003 MiB