Package: scDiagnostics Version: 1.3.0 Command: rm -rf scDiagnostics.buildbin-libdir && mkdir scDiagnostics.buildbin-libdir && /Users/biocbuild/BBS/utils/build-universal.sh scDiagnostics_1.3.0.tar.gz /Library/Frameworks/R.framework/Resources/bin/R scDiagnostics.buildbin-libdir StartedAt: 2025-10-25 02:02:22 -0400 (Sat, 25 Oct 2025) EndedAt: 2025-10-25 02:03:03 -0400 (Sat, 25 Oct 2025) EllapsedTime: 41.5 seconds RetCode: 0 Status: OK PackageFile: scDiagnostics_1.3.0.tgz PackageFileSize: 3.813 MiB