Package: scDiagnostics Version: 1.3.0 Command: /Library/Frameworks/R.framework/Resources/bin/R CMD INSTALL scDiagnostics StartedAt: 2025-10-24 15:14:48 -0400 (Fri, 24 Oct 2025) EndedAt: 2025-10-24 15:14:59 -0400 (Fri, 24 Oct 2025) EllapsedTime: 10.6 seconds RetCode: 0 Status: OK