Package: scDiagnostics Version: 1.3.0 Command: /Library/Frameworks/R.framework/Resources/bin/R CMD build --keep-empty-dirs --no-resave-data scDiagnostics StartedAt: 2025-10-24 17:38:15 -0400 (Fri, 24 Oct 2025) EndedAt: 2025-10-24 17:39:49 -0400 (Fri, 24 Oct 2025) EllapsedTime: 94.0 seconds RetCode: 0 Status: OK PackageFile: scDiagnostics_1.3.0.tar.gz PackageFileSize: 3.62 MiB