Package: scDesign3 Version: 1.7.7 Command: /home/biocbuild/R/R/bin/R CMD INSTALL scDesign3 StartedAt: 2025-10-23 21:00:27 -0000 (Thu, 23 Oct 2025) EndedAt: 2025-10-23 21:00:40 -0000 (Thu, 23 Oct 2025) EllapsedTime: 12.7 seconds RetCode: 0 Status: OK