Package: scDesign3 Version: 1.7.7 Command: /home/biocbuild/R/R/bin/R CMD build --keep-empty-dirs --no-resave-data scDesign3 StartedAt: 2025-10-21 02:52:17 -0000 (Tue, 21 Oct 2025) EndedAt: 2025-10-21 02:53:51 -0000 (Tue, 21 Oct 2025) EllapsedTime: 94.2 seconds RetCode: 0 Status: OK PackageFile: scDesign3_1.7.7.tar.gz PackageFileSize: 858.9 KiB