Package: scDesign3 Version: 1.7.7 Command: /home/biocbuild/bbs-3.22-bioc/R/bin/R CMD check --install=check:scDesign3.install-out.txt --library=/home/biocbuild/bbs-3.22-bioc/R/site-library --timings scDesign3_1.7.7.tar.gz StartedAt: 2025-10-25 03:46:22 -0400 (Sat, 25 Oct 2025) EndedAt: 2025-10-25 03:50:23 -0400 (Sat, 25 Oct 2025) EllapsedTime: 241.2 seconds RetCode: 0 Status: OK CheckDir: scDesign3.Rcheck Warnings: 0