Package: scDesign3 Version: 1.7.7 Command: /home/biocbuild/bbs-3.22-bioc/R/bin/R CMD build --keep-empty-dirs --no-resave-data --md5 scDesign3 StartedAt: 2025-10-24 19:59:39 -0400 (Fri, 24 Oct 2025) EndedAt: 2025-10-24 20:00:50 -0400 (Fri, 24 Oct 2025) EllapsedTime: 71.1 seconds RetCode: 0 Status: OK PackageFile: scDesign3_1.7.7.tar.gz PackageFileSize: 1.007 MiB