Package: scDesign3 Version: 1.7.7 Command: /Library/Frameworks/R.framework/Resources/bin/R CMD INSTALL scDesign3 StartedAt: 2025-10-24 15:41:32 -0400 (Fri, 24 Oct 2025) EndedAt: 2025-10-24 15:41:47 -0400 (Fri, 24 Oct 2025) EllapsedTime: 15.2 seconds RetCode: 0 Status: OK