Package: scDesign3 Version: 1.7.7 Command: rm -rf scDesign3.buildbin-libdir && mkdir scDesign3.buildbin-libdir && /Users/biocbuild/BBS/utils/build-universal.sh scDesign3_1.7.7.tar.gz /Library/Frameworks/R.framework/Resources/bin/R scDesign3.buildbin-libdir StartedAt: 2025-10-25 02:02:17 -0400 (Sat, 25 Oct 2025) EndedAt: 2025-10-25 02:02:35 -0400 (Sat, 25 Oct 2025) EllapsedTime: 17.3 seconds RetCode: 0 Status: OK PackageFile: scDesign3_1.7.7.tgz PackageFileSize: 1.274 MiB