Package: scDesign3 Version: 1.7.7 Command: /Library/Frameworks/R.framework/Resources/bin/R CMD build --keep-empty-dirs --no-resave-data scDesign3 StartedAt: 2025-10-24 17:38:14 -0400 (Fri, 24 Oct 2025) EndedAt: 2025-10-24 17:38:51 -0400 (Fri, 24 Oct 2025) EllapsedTime: 36.4 seconds RetCode: 0 Status: OK PackageFile: scDesign3_1.7.7.tar.gz PackageFileSize: 1.097 MiB