Package: scDesign3 Version: 1.7.7 Maintainer: Dongyuan Song MaintainerEmail: dongyuansong at ucla.edu git_url: https://git.bioconductor.org/packages/scDesign3 git_branch: devel git_last_commit: 36405f0 git_last_commit_date: 2025-10-14 14:58:09 -0400 (Tue, 14 Oct 2025)