Package: scDblFinder Version: 1.24.0 Command: /home/biocbuild/bbs-3.22-bioc/R/bin/R CMD check --install=check:scDblFinder.install-out.txt --library=/home/biocbuild/bbs-3.22-bioc/R/site-library --timings scDblFinder_1.24.0.tar.gz StartedAt: 2025-11-01 03:49:09 -0400 (Sat, 01 Nov 2025) EndedAt: 2025-11-01 03:58:08 -0400 (Sat, 01 Nov 2025) EllapsedTime: 538.8 seconds RetCode: 0 Status: OK CheckDir: scDblFinder.Rcheck Warnings: 0