Package: scDblFinder Version: 1.23.9 Command: rm -rf scDblFinder.buildbin-libdir && mkdir scDblFinder.buildbin-libdir && /Users/biocbuild/BBS/utils/build-universal.sh scDblFinder_1.23.9.tar.gz /Library/Frameworks/R.framework/Resources/bin/R scDblFinder.buildbin-libdir StartedAt: 2025-10-25 02:02:14 -0400 (Sat, 25 Oct 2025) EndedAt: 2025-10-25 02:03:15 -0400 (Sat, 25 Oct 2025) EllapsedTime: 61.2 seconds RetCode: 0 Status: OK PackageFile: scDblFinder_1.23.9.tgz PackageFileSize: 2.378 MiB