Package: scDblFinder Version: 1.23.9 Command: /Library/Frameworks/R.framework/Resources/bin/R CMD INSTALL scDblFinder StartedAt: 2025-10-24 15:32:49 -0400 (Fri, 24 Oct 2025) EndedAt: 2025-10-24 15:33:10 -0400 (Fri, 24 Oct 2025) EllapsedTime: 20.7 seconds RetCode: 0 Status: OK