Package: scDblFinder Version: 1.23.9 Command: /Library/Frameworks/R.framework/Resources/bin/R CMD build --keep-empty-dirs --no-resave-data scDblFinder StartedAt: 2025-10-24 17:37:50 -0400 (Fri, 24 Oct 2025) EndedAt: 2025-10-24 17:38:57 -0400 (Fri, 24 Oct 2025) EllapsedTime: 66.7 seconds RetCode: 0 Status: OK PackageFile: scDblFinder_1.23.9.tar.gz PackageFileSize: 2.214 MiB