Package: scDblFinder Version: 1.23.9 Command: rm -rf scDblFinder.buildbin-libdir && mkdir scDblFinder.buildbin-libdir && /Users/biocbuild/BBS/utils/build-universal.sh scDblFinder_1.23.9.tar.gz /Library/Frameworks/R.framework/Resources/bin/R scDblFinder.buildbin-libdir StartedAt: 2025-10-24 23:18:29 -0400 (Fri, 24 Oct 2025) EndedAt: 2025-10-24 23:18:49 -0400 (Fri, 24 Oct 2025) EllapsedTime: 19.4 seconds RetCode: 0 Status: OK PackageFile: scDblFinder_1.23.9.tgz PackageFileSize: 2.392 MiB