Package: scDblFinder Version: 1.23.9 Maintainer: Pierre-Luc Germain MaintainerEmail: pierre-luc.germain at hest.ethz.ch git_url: https://git.bioconductor.org/packages/scDblFinder git_branch: devel git_last_commit: d847f68 git_last_commit_date: 2025-10-23 03:46:31 -0400 (Thu, 23 Oct 2025)