Package: scDataviz Version: 1.19.1 Command: /home/biocbuild/R/R/bin/R CMD INSTALL scDataviz StartedAt: 2025-10-23 20:57:56 -0000 (Thu, 23 Oct 2025) EndedAt: 2025-10-23 20:58:44 -0000 (Thu, 23 Oct 2025) EllapsedTime: 48.1 seconds RetCode: 0 Status: OK