Package: scDataviz Version: 1.19.1 Command: /home/biocbuild/R/R/bin/R CMD build --keep-empty-dirs --no-resave-data scDataviz StartedAt: 2025-10-21 02:50:58 -0000 (Tue, 21 Oct 2025) EndedAt: 2025-10-21 02:56:11 -0000 (Tue, 21 Oct 2025) EllapsedTime: 313.5 seconds RetCode: 0 Status: OK PackageFile: scDataviz_1.19.1.tar.gz PackageFileSize: 5.261 MiB