Package: scDataviz Version: 1.20.0 Command: /Library/Frameworks/R.framework/Resources/bin/R CMD check --install=check:scDataviz.install-out.txt --library=/Library/Frameworks/R.framework/Resources/library --no-vignettes --timings scDataviz_1.20.0.tar.gz StartedAt: 2025-11-10 22:10:42 -0500 (Mon, 10 Nov 2025) EndedAt: 2025-11-10 22:12:27 -0500 (Mon, 10 Nov 2025) EllapsedTime: 105.1 seconds RetCode: 0 Status: OK CheckDir: scDataviz.Rcheck Warnings: 0