Package: scDataviz Version: 1.19.1 Maintainer: Kevin Blighe MaintainerEmail: kevin at clinicalbioinformatics.co.uk git_url: https://git.bioconductor.org/packages/scDataviz git_branch: devel git_last_commit: e3d0b7b git_last_commit_date: 2025-10-14 14:57:47 -0400 (Tue, 14 Oct 2025)