Package: scDDboost Version: 1.11.0 Command: /home/biocbuild/R/R/bin/R CMD INSTALL scDDboost StartedAt: 2025-10-23 20:38:48 -0000 (Thu, 23 Oct 2025) EndedAt: 2025-10-23 20:40:16 -0000 (Thu, 23 Oct 2025) EllapsedTime: 88.2 seconds RetCode: 0 Status: OK