Package: scDDboost Version: 1.11.0 Command: /home/biocbuild/R/R/bin/R CMD build --keep-empty-dirs --no-resave-data scDDboost StartedAt: 2025-10-21 02:52:00 -0000 (Tue, 21 Oct 2025) EndedAt: 2025-10-21 02:54:35 -0000 (Tue, 21 Oct 2025) EllapsedTime: 155.3 seconds RetCode: 0 Status: OK PackageFile: scDDboost_1.11.0.tar.gz PackageFileSize: 628 KiB