Package: scDDboost Version: 1.11.0 Command: /Library/Frameworks/R.framework/Resources/bin/R CMD INSTALL scDDboost StartedAt: 2025-10-24 15:28:12 -0400 (Fri, 24 Oct 2025) EndedAt: 2025-10-24 15:29:24 -0400 (Fri, 24 Oct 2025) EllapsedTime: 71.5 seconds RetCode: 0 Status: OK