Package: scDDboost Version: 1.11.0 Command: /Library/Frameworks/R.framework/Resources/bin/R CMD build --keep-empty-dirs --no-resave-data scDDboost StartedAt: 2025-10-24 18:37:54 -0400 (Fri, 24 Oct 2025) EndedAt: 2025-10-24 18:39:40 -0400 (Fri, 24 Oct 2025) EllapsedTime: 105.6 seconds RetCode: 0 Status: OK PackageFile: scDDboost_1.11.0.tar.gz PackageFileSize: 858.6 KiB