Package: scDDboost Version: 1.11.0 Command: /Library/Frameworks/R.framework/Resources/bin/R CMD INSTALL scDDboost StartedAt: 2025-10-26 15:10:12 -0400 (Sun, 26 Oct 2025) EndedAt: 2025-10-26 15:10:33 -0400 (Sun, 26 Oct 2025) EllapsedTime: 20.8 seconds RetCode: 0 Status: OK