Package: scDDboost Version: 1.11.0 Command: rm -rf scDDboost.buildbin-libdir && mkdir scDDboost.buildbin-libdir && /Users/biocbuild/BBS/utils/build-universal.sh scDDboost_1.11.0.tar.gz /Library/Frameworks/R.framework/Resources/bin/R scDDboost.buildbin-libdir StartedAt: 2025-10-26 22:47:30 -0400 (Sun, 26 Oct 2025) EndedAt: 2025-10-26 22:47:52 -0400 (Sun, 26 Oct 2025) EllapsedTime: 21.4 seconds RetCode: 0 Status: OK PackageFile: scDDboost_1.11.0.tgz PackageFileSize: 978.9 KiB