Package: scDD Version: 1.33.1 Command: /home/biocbuild/bbs-3.22-bioc/R/bin/R CMD INSTALL scDD StartedAt: 2025-10-27 16:00:03 -0400 (Mon, 27 Oct 2025) EndedAt: 2025-10-27 16:00:38 -0400 (Mon, 27 Oct 2025) EllapsedTime: 34.1 seconds RetCode: 0 Status: OK