Package: scDD Version: 1.34.0 Command: /Library/Frameworks/R.framework/Resources/bin/R CMD INSTALL scDD StartedAt: 2025-11-02 15:30:48 -0500 (Sun, 02 Nov 2025) EndedAt: 2025-11-02 15:31:02 -0500 (Sun, 02 Nov 2025) EllapsedTime: 13.7 seconds RetCode: 0 Status: OK