Package: scDD Version: 1.34.0 Command: rm -rf scDD.buildbin-libdir && mkdir scDD.buildbin-libdir && /Users/biocbuild/BBS/utils/build-universal.sh scDD_1.34.0.tar.gz /Library/Frameworks/R.framework/Resources/bin/R scDD.buildbin-libdir StartedAt: 2025-11-04 23:19:02 -0500 (Tue, 04 Nov 2025) EndedAt: 2025-11-04 23:19:17 -0500 (Tue, 04 Nov 2025) EllapsedTime: 15.3 seconds RetCode: 0 Status: OK PackageFile: scDD_1.34.0.tgz PackageFileSize: 1.001 MiB