Package: scClassify Version: 1.21.0 Command: /home/biocbuild/R/R/bin/R CMD build --keep-empty-dirs --no-resave-data scClassify StartedAt: 2025-10-21 02:50:49 -0000 (Tue, 21 Oct 2025) EndedAt: 2025-10-21 02:53:13 -0000 (Tue, 21 Oct 2025) EllapsedTime: 144.2 seconds RetCode: 0 Status: OK PackageFile: scClassify_1.21.0.tar.gz PackageFileSize: 2.969 MiB