Package: scClassify Version: 1.21.0 Command: /home/biocbuild/bbs-3.22-bioc/R/bin/R CMD check --install=check:scClassify.install-out.txt --library=/home/biocbuild/bbs-3.22-bioc/R/site-library --timings scClassify_1.21.0.tar.gz StartedAt: 2025-10-25 03:44:45 -0400 (Sat, 25 Oct 2025) EndedAt: 2025-10-25 03:52:32 -0400 (Sat, 25 Oct 2025) EllapsedTime: 466.7 seconds RetCode: 0 Status: OK CheckDir: scClassify.Rcheck Warnings: 0