Package: scClassify Version: 1.21.0 Command: /home/biocbuild/bbs-3.22-bioc/R/bin/R CMD build --keep-empty-dirs --no-resave-data --md5 scClassify StartedAt: 2025-10-24 19:59:02 -0400 (Fri, 24 Oct 2025) EndedAt: 2025-10-24 20:00:41 -0400 (Fri, 24 Oct 2025) EllapsedTime: 99.1 seconds RetCode: 0 Status: OK PackageFile: scClassify_1.21.0.tar.gz PackageFileSize: 2.904 MiB