Package: scClassify Version: 1.21.0 Command: /Library/Frameworks/R.framework/Resources/bin/R CMD INSTALL scClassify StartedAt: 2025-10-24 15:37:19 -0400 (Fri, 24 Oct 2025) EndedAt: 2025-10-24 15:38:10 -0400 (Fri, 24 Oct 2025) EllapsedTime: 51.2 seconds RetCode: 0 Status: OK