Package: scClassify Version: 1.21.0 Command: rm -rf scClassify.buildbin-libdir && mkdir scClassify.buildbin-libdir && /Users/biocbuild/BBS/utils/build-universal.sh scClassify_1.21.0.tar.gz /Library/Frameworks/R.framework/Resources/bin/R scClassify.buildbin-libdir StartedAt: 2025-10-25 02:02:08 -0400 (Sat, 25 Oct 2025) EndedAt: 2025-10-25 02:03:01 -0400 (Sat, 25 Oct 2025) EllapsedTime: 53.1 seconds RetCode: 0 Status: OK PackageFile: scClassify_1.21.0.tgz PackageFileSize: 3.336 MiB