Package: scClassify Version: 1.21.0 Command: /Library/Frameworks/R.framework/Resources/bin/R CMD build --keep-empty-dirs --no-resave-data scClassify StartedAt: 2025-10-24 17:37:39 -0400 (Fri, 24 Oct 2025) EndedAt: 2025-10-24 17:38:33 -0400 (Fri, 24 Oct 2025) EllapsedTime: 54.6 seconds RetCode: 0 Status: OK PackageFile: scClassify_1.21.0.tar.gz PackageFileSize: 2.91 MiB