Package: scCB2 Version: 1.19.0 Command: /home/biocbuild/bbs-3.22-bioc/R/bin/R CMD INSTALL scCB2 StartedAt: 2025-10-24 15:47:57 -0400 (Fri, 24 Oct 2025) EndedAt: 2025-10-24 15:48:37 -0400 (Fri, 24 Oct 2025) EllapsedTime: 40.0 seconds RetCode: 0 Status: OK