Package: scCB2 Version: 1.20.0 Command: /Library/Frameworks/R.framework/Resources/bin/R CMD INSTALL scCB2 StartedAt: 2025-11-03 15:34:48 -0500 (Mon, 03 Nov 2025) EndedAt: 2025-11-03 15:35:45 -0500 (Mon, 03 Nov 2025) EllapsedTime: 56.7 seconds RetCode: 0 Status: OK